BEGIN:VCALENDAR
VERSION:2.0
PRODID:-//Jonzac Rando - ECPv6.15.20//NONSGML v1.0//EN
CALSCALE:GREGORIAN
METHOD:PUBLISH
X-WR-CALNAME:Jonzac Rando
X-ORIGINAL-URL:https://jonzac-rando.fr
X-WR-CALDESC:Évènements pour Jonzac Rando
REFRESH-INTERVAL;VALUE=DURATION:PT1H
X-Robots-Tag:noindex
X-PUBLISHED-TTL:PT1H
BEGIN:VTIMEZONE
TZID:Europe/Paris
BEGIN:DAYLIGHT
TZOFFSETFROM:+0100
TZOFFSETTO:+0200
TZNAME:CEST
DTSTART:20250330T010000
END:DAYLIGHT
BEGIN:STANDARD
TZOFFSETFROM:+0200
TZOFFSETTO:+0100
TZNAME:CET
DTSTART:20251026T010000
END:STANDARD
BEGIN:DAYLIGHT
TZOFFSETFROM:+0100
TZOFFSETTO:+0200
TZNAME:CEST
DTSTART:20260329T010000
END:DAYLIGHT
BEGIN:STANDARD
TZOFFSETFROM:+0200
TZOFFSETTO:+0100
TZNAME:CET
DTSTART:20261025T010000
END:STANDARD
BEGIN:DAYLIGHT
TZOFFSETFROM:+0100
TZOFFSETTO:+0200
TZNAME:CEST
DTSTART:20270328T010000
END:DAYLIGHT
BEGIN:STANDARD
TZOFFSETFROM:+0200
TZOFFSETTO:+0100
TZNAME:CET
DTSTART:20271031T010000
END:STANDARD
END:VTIMEZONE
BEGIN:VEVENT
DTSTART;TZID=Europe/Paris:20260630T090000
DTEND;TZID=Europe/Paris:20260630T170000
DTSTAMP:20260423T162929
CREATED:20260210T125209Z
LAST-MODIFIED:20260210T125209Z
UID:10000335-1782810000-1782838800@jonzac-rando.fr
SUMMARY:Rando à la journée - Bran (Pique-nique)
DESCRIPTION:Pour tous les groupes \nAlain Rocher (1 seul groupe : détente + dynamique) \nDidier Chapon (douce)  \nMonique Husson (santé) \nInfos supplémentaires à venir
URL:https://jonzac-rando.fr/evenement/rando-a-la-journee-bran-pique-nique/
LOCATION:JONZAC – Parking Paul Bert\, 8 rue Paul Bert\, Jonzac\, 17500\, France
CATEGORIES:Rando Santé,Randonnées
ATTACH;FMTTYPE=image/jpeg:https://jonzac-rando.fr/wp-content/uploads/2024/09/logo-rando-journee.jpg
END:VEVENT
END:VCALENDAR