BEGIN:VCALENDAR
VERSION:2.0
PRODID:-//Jonzac Rando - ECPv6.15.20//NONSGML v1.0//EN
CALSCALE:GREGORIAN
METHOD:PUBLISH
X-WR-CALNAME:Jonzac Rando
X-ORIGINAL-URL:https://jonzac-rando.fr
X-WR-CALDESC:Évènements pour Jonzac Rando
REFRESH-INTERVAL;VALUE=DURATION:PT1H
X-Robots-Tag:noindex
X-PUBLISHED-TTL:PT1H
BEGIN:VTIMEZONE
TZID:Europe/Paris
BEGIN:DAYLIGHT
TZOFFSETFROM:+0100
TZOFFSETTO:+0200
TZNAME:CEST
DTSTART:20240331T010000
END:DAYLIGHT
BEGIN:STANDARD
TZOFFSETFROM:+0200
TZOFFSETTO:+0100
TZNAME:CET
DTSTART:20241027T010000
END:STANDARD
BEGIN:DAYLIGHT
TZOFFSETFROM:+0100
TZOFFSETTO:+0200
TZNAME:CEST
DTSTART:20250330T010000
END:DAYLIGHT
BEGIN:STANDARD
TZOFFSETFROM:+0200
TZOFFSETTO:+0100
TZNAME:CET
DTSTART:20251026T010000
END:STANDARD
BEGIN:DAYLIGHT
TZOFFSETFROM:+0100
TZOFFSETTO:+0200
TZNAME:CEST
DTSTART:20260329T010000
END:DAYLIGHT
BEGIN:STANDARD
TZOFFSETFROM:+0200
TZOFFSETTO:+0100
TZNAME:CET
DTSTART:20261025T010000
END:STANDARD
BEGIN:DAYLIGHT
TZOFFSETFROM:+0100
TZOFFSETTO:+0200
TZNAME:CEST
DTSTART:20270328T010000
END:DAYLIGHT
BEGIN:STANDARD
TZOFFSETFROM:+0200
TZOFFSETTO:+0100
TZNAME:CET
DTSTART:20271031T010000
END:STANDARD
END:VTIMEZONE
BEGIN:VEVENT
DTSTART;TZID=Europe/Paris:20260319T100000
DTEND;TZID=Europe/Paris:20260319T120000
DTSTAMP:20260423T175249
CREATED:20260110T153117Z
LAST-MODIFIED:20260110T153117Z
UID:10000274-1773914400-1773921600@jonzac-rando.fr
SUMMARY:Rando Santé
DESCRIPTION:Plus d’infos sur le label « Santé » de la FFRandonnée \nQuelques conseils pour profiter pleinement de la Rando Santé :\nAssurez-vous d’être bien équipés avec des vêtements confortables et des chaussures adaptées à la marche. Pensez à glisser dans votre sac une bouteille d’eau\, ainsi qu’un petit encas (biscuits ou fruits secs).\nSi vous prenez un traitement\, informez l’animateur et veillez à emporter vos médicaments\, accompagnés de l’ordonnance correspondante.\nSelon la météo et la disponibilité des encadrants\, la randonnée pourra être prolongée pour les participants qui le souhaitent.
URL:https://jonzac-rando.fr/evenement/rando-sante-22/
LOCATION:JONZAC – Base de loisirs\, Heurtebise\, Jonzac\, France
CATEGORIES:Rando Santé
ATTACH;FMTTYPE=image/jpeg:https://jonzac-rando.fr/wp-content/uploads/2024/07/logo-rando-sante-calendrier.jpg
END:VEVENT
BEGIN:VEVENT
DTSTART;TZID=Europe/Paris:20260226T100000
DTEND;TZID=Europe/Paris:20260226T120000
DTSTAMP:20260423T175249
CREATED:20260110T152837Z
LAST-MODIFIED:20260110T152837Z
UID:10000269-1772100000-1772107200@jonzac-rando.fr
SUMMARY:Rando Santé
DESCRIPTION:Plus d’infos sur le label « Santé » de la FFRandonnée \nQuelques conseils pour profiter pleinement de la Rando Santé :\nAssurez-vous d’être bien équipés avec des vêtements confortables et des chaussures adaptées à la marche. Pensez à glisser dans votre sac une bouteille d’eau\, ainsi qu’un petit encas (biscuits ou fruits secs).\nSi vous prenez un traitement\, informez l’animateur et veillez à emporter vos médicaments\, accompagnés de l’ordonnance correspondante.\nSelon la météo et la disponibilité des encadrants\, la randonnée pourra être prolongée pour les participants qui le souhaitent.
URL:https://jonzac-rando.fr/evenement/rando-sante-20/
LOCATION:JONZAC – Base de loisirs\, Heurtebise\, Jonzac\, France
CATEGORIES:Rando Santé
ATTACH;FMTTYPE=image/jpeg:https://jonzac-rando.fr/wp-content/uploads/2024/07/logo-rando-sante-calendrier.jpg
END:VEVENT
BEGIN:VEVENT
DTSTART;TZID=Europe/Paris:20260219T100000
DTEND;TZID=Europe/Paris:20260219T120000
DTSTAMP:20260423T175249
CREATED:20260110T152812Z
LAST-MODIFIED:20260110T152812Z
UID:10000268-1771495200-1771502400@jonzac-rando.fr
SUMMARY:Rando Santé
DESCRIPTION:Plus d’infos sur le label « Santé » de la FFRandonnée \nQuelques conseils pour profiter pleinement de la Rando Santé :\nAssurez-vous d’être bien équipés avec des vêtements confortables et des chaussures adaptées à la marche. Pensez à glisser dans votre sac une bouteille d’eau\, ainsi qu’un petit encas (biscuits ou fruits secs).\nSi vous prenez un traitement\, informez l’animateur et veillez à emporter vos médicaments\, accompagnés de l’ordonnance correspondante.\nSelon la météo et la disponibilité des encadrants\, la randonnée pourra être prolongée pour les participants qui le souhaitent.
URL:https://jonzac-rando.fr/evenement/rando-sante-19/
LOCATION:JONZAC – Base de loisirs\, Heurtebise\, Jonzac\, France
CATEGORIES:Rando Santé
ATTACH;FMTTYPE=image/jpeg:https://jonzac-rando.fr/wp-content/uploads/2024/07/logo-rando-sante-calendrier.jpg
END:VEVENT
BEGIN:VEVENT
DTSTART;TZID=Europe/Paris:20260129T100000
DTEND;TZID=Europe/Paris:20260129T120000
DTSTAMP:20260423T175249
CREATED:20260110T152534Z
LAST-MODIFIED:20260110T152534Z
UID:10000265-1769680800-1769688000@jonzac-rando.fr
SUMMARY:Rando Santé
DESCRIPTION:Plus d’infos sur le label « Santé » de la FFRandonnée \nQuelques conseils pour profiter pleinement de la Rando Santé :\nAssurez-vous d’être bien équipés avec des vêtements confortables et des chaussures adaptées à la marche. Pensez à glisser dans votre sac une bouteille d’eau\, ainsi qu’un petit encas (biscuits ou fruits secs).\nSi vous prenez un traitement\, informez l’animateur et veillez à emporter vos médicaments\, accompagnés de l’ordonnance correspondante.\nSelon la météo et la disponibilité des encadrants\, la randonnée pourra être prolongée pour les participants qui le souhaitent.
URL:https://jonzac-rando.fr/evenement/rando-sante-4/
LOCATION:JONZAC – Base de loisirs\, Heurtebise\, Jonzac\, France
CATEGORIES:Rando Santé
ATTACH;FMTTYPE=image/jpeg:https://jonzac-rando.fr/wp-content/uploads/2024/07/logo-rando-sante-calendrier.jpg
END:VEVENT
BEGIN:VEVENT
DTSTART;TZID=Europe/Paris:20260106T133000
DTEND;TZID=Europe/Paris:20260106T170000
DTSTAMP:20260423T175249
CREATED:20251021T065511Z
LAST-MODIFIED:20251021T065511Z
UID:10000228-1767706200-1767718800@jonzac-rando.fr
SUMMARY:Rando 2 niveaux - Jonzac
DESCRIPTION:Lieu : Parking Paul Bert \nRando Détente 8 à 10 KM :\n\nRenseignements : Jacky VIBERT 06.20.76.44.64\nAnimateur : Christian Husson et Jacky Vibert\n\nRando Douce / Contemplative 5 à 6 KM : (Terrain plat)\n\nRenseignements : Maryline CHARDONNET 06.17.78.98.99\nAnimateur : Monique Husson et Martine Fonteneau\n\n  \n 
URL:https://jonzac-rando.fr/evenement/rando-2-niveaux-jonzac/
LOCATION:JONZAC – Parking Paul Bert\, 8 rue Paul Bert\, Jonzac\, 17500\, France
CATEGORIES:Randonnées
ATTACH;FMTTYPE=image/jpeg:https://jonzac-rando.fr/wp-content/uploads/2024/09/logo-rando-3-niveaux-1.jpg
END:VEVENT
BEGIN:VEVENT
DTSTART;TZID=Europe/Paris:20251218T100000
DTEND;TZID=Europe/Paris:20251218T120000
DTSTAMP:20260423T175249
CREATED:20250826T050153Z
LAST-MODIFIED:20250826T050153Z
UID:10000212-1766052000-1766059200@jonzac-rando.fr
SUMMARY:Rando Santé
DESCRIPTION:Plus d’infos sur le label « Santé » de la FFRandonnée \nQuelques conseils pour profiter pleinement de la Rando Santé :\nAssurez-vous d’être bien équipés avec des vêtements confortables et des chaussures adaptées à la marche. Pensez à glisser dans votre sac une bouteille d’eau\, ainsi qu’un petit encas (biscuits ou fruits secs).\nSi vous prenez un traitement\, informez l’animateur et veillez à emporter vos médicaments\, accompagnés de l’ordonnance correspondante.\nSelon la météo et la disponibilité des encadrants\, la randonnée pourra être prolongée pour les participants qui le souhaitent.
URL:https://jonzac-rando.fr/evenement/rando-sante-35/
LOCATION:JONZAC – Base de loisirs\, Heurtebise\, Jonzac\, France
CATEGORIES:Rando Santé
ATTACH;FMTTYPE=image/jpeg:https://jonzac-rando.fr/wp-content/uploads/2024/07/logo-rando-sante-calendrier.jpg
END:VEVENT
BEGIN:VEVENT
DTSTART;TZID=Europe/Paris:20251016T100000
DTEND;TZID=Europe/Paris:20251016T120000
DTSTAMP:20260423T175249
CREATED:20250826T045333Z
LAST-MODIFIED:20250826T045333Z
UID:10000203-1760608800-1760616000@jonzac-rando.fr
SUMMARY:Rando Santé
DESCRIPTION:Plus d’infos sur le label « Santé » de la FFRandonnée \nQuelques conseils pour profiter pleinement de la Rando Santé :\nAssurez-vous d’être bien équipés avec des vêtements confortables et des chaussures adaptées à la marche. Pensez à glisser dans votre sac une bouteille d’eau\, ainsi qu’un petit encas (biscuits ou fruits secs).\nSi vous prenez un traitement\, informez l’animateur et veillez à emporter vos médicaments\, accompagnés de l’ordonnance correspondante.\nSelon la météo et la disponibilité des encadrants\, la randonnée pourra être prolongée pour les participants qui le souhaitent.
URL:https://jonzac-rando.fr/evenement/rando-sante-16/
LOCATION:JONZAC – Base de loisirs\, Heurtebise\, Jonzac\, France
CATEGORIES:Rando Santé
ATTACH;FMTTYPE=image/jpeg:https://jonzac-rando.fr/wp-content/uploads/2024/07/logo-rando-sante-calendrier.jpg
END:VEVENT
BEGIN:VEVENT
DTSTART;TZID=Europe/Paris:20250911T100000
DTEND;TZID=Europe/Paris:20250911T120000
DTSTAMP:20260423T175249
CREATED:20250826T044635Z
LAST-MODIFIED:20250826T044635Z
UID:10000200-1757584800-1757592000@jonzac-rando.fr
SUMMARY:Rando Santé
DESCRIPTION:Plus d’infos sur le label « Santé » de la FFRandonnée \nQuelques conseils pour profiter pleinement de la Rando Santé :\nAssurez-vous d’être bien équipés avec des vêtements confortables et des chaussures adaptées à la marche. Pensez à glisser dans votre sac une bouteille d’eau\, ainsi qu’un petit encas (biscuits ou fruits secs).\nSi vous prenez un traitement\, informez l’animateur et veillez à emporter vos médicaments\, accompagnés de l’ordonnance correspondante.\nSelon la météo et la disponibilité des encadrants\, la randonnée pourra être prolongée pour les participants qui le souhaitent.
URL:https://jonzac-rando.fr/evenement/rando-sante-14/
LOCATION:JONZAC – Base de loisirs\, Heurtebise\, Jonzac\, France
CATEGORIES:Rando Santé
ATTACH;FMTTYPE=image/jpeg:https://jonzac-rando.fr/wp-content/uploads/2024/07/logo-rando-sante-calendrier.jpg
END:VEVENT
BEGIN:VEVENT
DTSTART;VALUE=DATE:20250701
DTEND;VALUE=DATE:20250702
DTSTAMP:20260423T175249
CREATED:20250201T063438Z
LAST-MODIFIED:20250201T063438Z
UID:10000158-1751328000-1751414399@jonzac-rando.fr
SUMMARY:Sortie surprise en bus (Tous les groupes)
DESCRIPTION:Infos à venir \nPour tous les groupes
URL:https://jonzac-rando.fr/evenement/sortie-surprise-en-bus-tous-les-groupes/
LOCATION:JONZAC – Parking Paul Bert\, 8 rue Paul Bert\, Jonzac\, 17500\, France
CATEGORIES:Rando Santé,Randonnées
ATTACH;FMTTYPE=image/jpeg:https://jonzac-rando.fr/wp-content/uploads/2024/09/logo-rando-journee.jpg
END:VEVENT
BEGIN:VEVENT
DTSTART;TZID=Europe/Paris:20250624T090000
DTEND;TZID=Europe/Paris:20250624T170000
DTSTAMP:20260423T175249
CREATED:20250201T063204Z
LAST-MODIFIED:20250201T063204Z
UID:10000156-1750755600-1750784400@jonzac-rando.fr
SUMMARY:Rando à la journée - Clion (Tous les groupes)
DESCRIPTION:Rando pour tous les groupes y compris la rando santé + Pique-nique de fin de saison (Danielle Jean\, Christian et Monique Husson\, Didier Chapon) \nAvec la précieuse collaboration de Philippe Lanoue et des Amis du Musée de Clion
URL:https://jonzac-rando.fr/evenement/rando-a-la-journee-clion-tous-les-groupes/
LOCATION:JONZAC – Parking Paul Bert\, 8 rue Paul Bert\, Jonzac\, 17500\, France
CATEGORIES:Rando Santé,Randonnées
ATTACH;FMTTYPE=image/jpeg:https://jonzac-rando.fr/wp-content/uploads/2024/09/logo-rando-journee.jpg
END:VEVENT
BEGIN:VEVENT
DTSTART;TZID=Europe/Paris:20250612T093000
DTEND;TZID=Europe/Paris:20250612T120000
DTSTAMP:20260423T175249
CREATED:20250404T092511Z
LAST-MODIFIED:20250404T092511Z
UID:10000174-1749720600-1749729600@jonzac-rando.fr
SUMMARY:Rando Santé
DESCRIPTION:ATTENTION DÉPART AVANCÉ ! \nRendez vous à 9H30 \n \nPlus d’infos sur le label « Santé » de la FFRandonnée
URL:https://jonzac-rando.fr/evenement/rando-sante-10/
LOCATION:JONZAC – Base de loisirs\, Heurtebise\, Jonzac\, France
CATEGORIES:Rando Santé
ATTACH;FMTTYPE=image/jpeg:https://jonzac-rando.fr/wp-content/uploads/2024/07/logo-rando-sante-calendrier.jpg
END:VEVENT
BEGIN:VEVENT
DTSTART;TZID=Europe/Paris:20250508T100000
DTEND;TZID=Europe/Paris:20250508T120000
DTSTAMP:20260423T175249
CREATED:20250404T091641Z
LAST-MODIFIED:20250404T091818Z
UID:10000168-1746698400-1746705600@jonzac-rando.fr
SUMMARY:Rando Santé
DESCRIPTION:Plus d’infos sur le label « Santé » de la FFRandonnée
URL:https://jonzac-rando.fr/evenement/rando-sante-5/
LOCATION:JONZAC – Base de loisirs\, Heurtebise\, Jonzac\, France
CATEGORIES:Rando Santé
ATTACH;FMTTYPE=image/jpeg:https://jonzac-rando.fr/wp-content/uploads/2024/07/logo-rando-sante-calendrier.jpg
END:VEVENT
BEGIN:VEVENT
DTSTART;TZID=Europe/Paris:20250506T133000
DTEND;TZID=Europe/Paris:20250506T170000
DTSTAMP:20260423T175249
CREATED:20250201T060326Z
LAST-MODIFIED:20250207T123928Z
UID:10000148-1746538200-1746550800@jonzac-rando.fr
SUMMARY:Rando 3 niveaux - Soubran
DESCRIPTION:Lieu : Etang des Bénissons\nCovoiturage : Parking Paul BERT (Jonzac) à 13h20\, départ des véhicules à 13h30. Voir plan ci-dessous. \nRando Douce / Contemplative 5 à 6 KM:\n\nRenseignements : Maryline CHARDONNET 06.17.78.98.99\nRendez-vous obligatoire au parking Paul BERT. Sur décision des organisateurs\, il est possible que ce groupe se dirige vers un lieu de randonnée différent des deux autres groupes.\nAnimateur : Martine Fonteneau & Monique Husson\n\nRando Détente 9 à 11 KM :\n\nRenseignements : Jacky VIBERT 06.20.76.44.64\nRendez-vous au point de covoiturage ou directement sur place\, en tenant compte du temps de trajet des véhicules en covoiturage\nAnimateur : Christian Husson\n\nRando Dynamique 14 à 15 KM :\n\nRenseignements : Danielle JEAN 06.84.92.31.31\nRendez-vous au point de covoiturage ou directement sur place\, en tenant compte du temps de trajet des véhicules en covoiturage\nAnimateur : Didier Chapon\n\n  \n 
URL:https://jonzac-rando.fr/evenement/rando-3-niveaux-soubran/
LOCATION:JONZAC – Parking Paul Bert\, 8 rue Paul Bert\, Jonzac\, 17500\, France
CATEGORIES:Randonnées
ATTACH;FMTTYPE=image/jpeg:https://jonzac-rando.fr/wp-content/uploads/2024/09/logo-rando-3-niveaux-1.jpg
END:VEVENT
END:VCALENDAR