BEGIN:VCALENDAR
VERSION:2.0
PRODID:-//Jonzac Rando - ECPv6.15.20//NONSGML v1.0//EN
CALSCALE:GREGORIAN
METHOD:PUBLISH
X-ORIGINAL-URL:https://jonzac-rando.fr
X-WR-CALDESC:Évènements pour Jonzac Rando
REFRESH-INTERVAL;VALUE=DURATION:PT1H
X-Robots-Tag:noindex
X-PUBLISHED-TTL:PT1H
BEGIN:VTIMEZONE
TZID:Europe/Paris
BEGIN:DAYLIGHT
TZOFFSETFROM:+0100
TZOFFSETTO:+0200
TZNAME:CEST
DTSTART:20240331T010000
END:DAYLIGHT
BEGIN:STANDARD
TZOFFSETFROM:+0200
TZOFFSETTO:+0100
TZNAME:CET
DTSTART:20241027T010000
END:STANDARD
BEGIN:DAYLIGHT
TZOFFSETFROM:+0100
TZOFFSETTO:+0200
TZNAME:CEST
DTSTART:20250330T010000
END:DAYLIGHT
BEGIN:STANDARD
TZOFFSETFROM:+0200
TZOFFSETTO:+0100
TZNAME:CET
DTSTART:20251026T010000
END:STANDARD
BEGIN:DAYLIGHT
TZOFFSETFROM:+0100
TZOFFSETTO:+0200
TZNAME:CEST
DTSTART:20260329T010000
END:DAYLIGHT
BEGIN:STANDARD
TZOFFSETFROM:+0200
TZOFFSETTO:+0100
TZNAME:CET
DTSTART:20261025T010000
END:STANDARD
BEGIN:DAYLIGHT
TZOFFSETFROM:+0100
TZOFFSETTO:+0200
TZNAME:CEST
DTSTART:20270328T010000
END:DAYLIGHT
BEGIN:STANDARD
TZOFFSETFROM:+0200
TZOFFSETTO:+0100
TZNAME:CET
DTSTART:20271031T010000
END:STANDARD
END:VTIMEZONE
BEGIN:VEVENT
DTSTART;TZID=Europe/Paris:20260329T090000
DTEND;TZID=Europe/Paris:20260329T120000
DTSTAMP:20260424T125244
CREATED:20260207T071846Z
LAST-MODIFIED:20260207T071846Z
UID:10000288-1774774800-1774785600@jonzac-rando.fr
SUMMARY:Rando dimanche - Pons
DESCRIPTION:Lieu : Parking de l’hôpital des Pélerins (route de Bordeaux) (Rdv à 9H sur place) \nRando unique 10 KM environ : \n\nRenseignements : Patricia FROIGNANT 06.66.47.09.16 ou Jean-Michel BONNAFOUS 06.34.08.26.36\nAnimateur : Jean-Philippe Landreau
URL:https://jonzac-rando.fr/evenement/rando-dimanche-pons/
CATEGORIES:Randonnées
ATTACH;FMTTYPE=image/jpeg:https://jonzac-rando.fr/wp-content/uploads/2024/09/logo-rando-dimanche.jpg
END:VEVENT
BEGIN:VEVENT
DTSTART;TZID=Europe/Paris:20260118T090000
DTEND;TZID=Europe/Paris:20260118T120000
DTSTAMP:20260424T125244
CREATED:20251021T101813Z
LAST-MODIFIED:20251021T101813Z
UID:10000253-1768726800-1768737600@jonzac-rando.fr
SUMMARY:Rando dimanche - St Genis de Saintonge
DESCRIPTION:Lieu : Gymnase du collège (Rdv à 9H sur place) \nRando unique 10 KM environ : \n\nRenseignements : Patricia FROIGNANT 06.66.47.09.16 ou Jean-Michel BONNAFOUS 06.34.08.26.36\nAnimateur : Jean Philippe LANDREAU
URL:https://jonzac-rando.fr/evenement/rando-dimanche-st-genis-de-saintonge/
CATEGORIES:Randonnées
ATTACH;FMTTYPE=image/jpeg:https://jonzac-rando.fr/wp-content/uploads/2024/09/logo-rando-dimanche.jpg
END:VEVENT
BEGIN:VEVENT
DTSTART;TZID=Europe/Paris:20251206T083000
DTEND;TZID=Europe/Paris:20251206T120000
DTSTAMP:20260424T125244
CREATED:20251021T092833Z
LAST-MODIFIED:20251021T092902Z
UID:10000244-1765009800-1765022400@jonzac-rando.fr
SUMMARY:Rando du Téléthon - Jonzac
DESCRIPTION:Lieu : Salle des fêtes de Jonzac (Rdv à 9H sur place) \nInfos à venir
URL:https://jonzac-rando.fr/evenement/rando-du-telethon-jonzac/
CATEGORIES:Randonnées
ATTACH;FMTTYPE=image/jpeg:https://jonzac-rando.fr/wp-content/uploads/2024/07/divers-calendrier.jpg
END:VEVENT
BEGIN:VEVENT
DTSTART;TZID=Europe/Paris:20251130T090000
DTEND;TZID=Europe/Paris:20251130T120000
DTSTAMP:20260424T125244
CREATED:20251021T092644Z
LAST-MODIFIED:20251021T092644Z
UID:10000243-1764493200-1764504000@jonzac-rando.fr
SUMMARY:Rando dimanche - Fléac (Téléthon)
DESCRIPTION:Lieu : Fléac (Rdv à 9H sur place) \nRando unique 10 KM environ : \n\nRenseignements : Patricia FROIGNANT 06.66.47.09.16 ou Jean-Michel BONNAFOUS 06.34.08.26.36\nAnimateur : Jean-Philippe LANDREAU
URL:https://jonzac-rando.fr/evenement/rando-dimanche-fleac-telethon/
CATEGORIES:Randonnées
ATTACH;FMTTYPE=image/jpeg:https://jonzac-rando.fr/wp-content/uploads/2024/09/logo-rando-dimanche.jpg
END:VEVENT
BEGIN:VEVENT
DTSTART;TZID=Europe/Paris:20251125T133000
DTEND;TZID=Europe/Paris:20251125T170000
DTSTAMP:20260424T125244
CREATED:20251021T063203Z
LAST-MODIFIED:20251021T063203Z
UID:10000225-1764077400-1764090000@jonzac-rando.fr
SUMMARY:Rando 3 niveaux - Avy
DESCRIPTION:Lieu : Salle des fêtes\n \nCovoiturage : Parking Paul BERT (Jonzac) à 13:20\, départ des véhicules à 13:30. Voir plan ci-dessous.\nLes randonnées partiront dès que tous les véhicules de covoiturage venant du parking Paul Bert seront arrivés. \nRando Dynamique 11 à 13 KM :\n\nRenseignements : Danielle JEAN 06.84.92.31.31\nAnimateur : Jean-Philippe Landreau\n\nRando Détente 8 à 10 KM :\n\nRenseignements : Jacky VIBERT 06.20.76.44.64\nAnimateur : Jean-Marie Massé\n\nRando Douce / Contemplative 5 à 6 KM – Courpignac (Mairie)\n\nRenseignements : Maryline CHARDONNET 06.17.78.98.99\nAnimateur : Sylvette TESSERON\n\n  \n 
URL:https://jonzac-rando.fr/evenement/rando-3-niveaux-avy/
LOCATION:JONZAC – Parking Paul Bert\, 8 rue Paul Bert\, Jonzac\, 17500\, France
CATEGORIES:Randonnées
ATTACH;FMTTYPE=image/jpeg:https://jonzac-rando.fr/wp-content/uploads/2024/09/logo-rando-3-niveaux-1.jpg
END:VEVENT
END:VCALENDAR