BEGIN:VCALENDAR
VERSION:2.0
PRODID:-//Jonzac Rando - ECPv6.15.20//NONSGML v1.0//EN
CALSCALE:GREGORIAN
METHOD:PUBLISH
X-WR-CALNAME:Jonzac Rando
X-ORIGINAL-URL:https://jonzac-rando.fr
X-WR-CALDESC:Évènements pour Jonzac Rando
REFRESH-INTERVAL;VALUE=DURATION:PT1H
X-Robots-Tag:noindex
X-PUBLISHED-TTL:PT1H
BEGIN:VTIMEZONE
TZID:Europe/Paris
BEGIN:DAYLIGHT
TZOFFSETFROM:+0100
TZOFFSETTO:+0200
TZNAME:CEST
DTSTART:20240331T010000
END:DAYLIGHT
BEGIN:STANDARD
TZOFFSETFROM:+0200
TZOFFSETTO:+0100
TZNAME:CET
DTSTART:20241027T010000
END:STANDARD
BEGIN:DAYLIGHT
TZOFFSETFROM:+0100
TZOFFSETTO:+0200
TZNAME:CEST
DTSTART:20250330T010000
END:DAYLIGHT
BEGIN:STANDARD
TZOFFSETFROM:+0200
TZOFFSETTO:+0100
TZNAME:CET
DTSTART:20251026T010000
END:STANDARD
BEGIN:DAYLIGHT
TZOFFSETFROM:+0100
TZOFFSETTO:+0200
TZNAME:CEST
DTSTART:20260329T010000
END:DAYLIGHT
BEGIN:STANDARD
TZOFFSETFROM:+0200
TZOFFSETTO:+0100
TZNAME:CET
DTSTART:20261025T010000
END:STANDARD
END:VTIMEZONE
BEGIN:VEVENT
DTSTART;VALUE=DATE:20250601
DTEND;VALUE=DATE:20250608
DTSTAMP:20260423T010835
CREATED:20241213T132122Z
LAST-MODIFIED:20241213T132353Z
UID:10000086-1748736000-1749340799@jonzac-rando.fr
SUMMARY:Séjour 1 Cantabrie (Espagne) avec Sud Evasion
DESCRIPTION:Complet \n 
URL:https://jonzac-rando.fr/evenement/sejour-cantabrie-espagne-avec-sud-evasion/
CATEGORIES:Séjour
ATTACH;FMTTYPE=image/jpeg:https://jonzac-rando.fr/wp-content/uploads/2024/08/illustration-sejour.jpg
END:VEVENT
BEGIN:VEVENT
DTSTART;VALUE=DATE:20250607
DTEND;VALUE=DATE:20250615
DTSTAMP:20260423T010835
CREATED:20241213T132338Z
LAST-MODIFIED:20241213T132338Z
UID:10000087-1749254400-1749945599@jonzac-rando.fr
SUMMARY:Séjour 2 Cantabrie (Espagne) avec Sud Evasion
DESCRIPTION:COMPLET
URL:https://jonzac-rando.fr/evenement/sejour-2-cantabrie-espagne-avec-sud-evasion/
CATEGORIES:Séjour
ATTACH;FMTTYPE=image/jpeg:https://jonzac-rando.fr/wp-content/uploads/2024/08/illustration-sejour.jpg
END:VEVENT
END:VCALENDAR